BEGIN:VCALENDAR
VERSION:2.0
PRODID:-//First Assembly of God Cayman Islands - ECPv6.15.20//NONSGML v1.0//EN
CALSCALE:GREGORIAN
METHOD:PUBLISH
X-ORIGINAL-URL:https://firstassembly.ky
X-WR-CALDESC:Events for First Assembly of God Cayman Islands
REFRESH-INTERVAL;VALUE=DURATION:PT1H
X-Robots-Tag:noindex
X-PUBLISHED-TTL:PT1H
BEGIN:VTIMEZONE
TZID:UTC
BEGIN:STANDARD
TZOFFSETFROM:+0000
TZOFFSETTO:+0000
TZNAME:UTC
DTSTART:20240101T000000
END:STANDARD
END:VTIMEZONE
BEGIN:VEVENT
DTSTART;TZID=UTC:20250131T220000
DTEND;TZID=UTC:20250201T050000
DTSTAMP:20260423T164014
CREATED:20250124T221012Z
LAST-MODIFIED:20250124T221231Z
UID:4759-1738360800-1738386000@firstassembly.ky
SUMMARY:Corporate All Night Prayer Service
DESCRIPTION:A powerful night of prayer and intercession. Join us as we seek the Lord and prepare our hearts for all that He has in store! \nClick on the link below to send your prayer requests. \nPrayer Requests
URL:https://firstassembly.ky/event/corporate-all-night-prayer-service/
LOCATION:First Assembly of God\, 195 Old Crewe Road\, George Town\, Cayman Islands
ATTACH;FMTTYPE=image/jpeg:https://firstassembly.ky/wp-content/uploads/2025/01/Prayernight.jpg
END:VEVENT
BEGIN:VEVENT
DTSTART;TZID=UTC:20250127T050000
DTEND;TZID=UTC:20250127T120000
DTSTAMP:20260423T164014
CREATED:20250124T201216Z
LAST-MODIFIED:20250124T215919Z
UID:4728-1737954000-1737979200@firstassembly.ky
SUMMARY:Car Wash & Boot Sale Fundraiser
DESCRIPTION:Is your car looking dull and covered in grime? Don’t worry—we’ve got you covered!\nFrom dust to divine\, we’ll make your car shine!\n \nWhile your car gets a glow-up\, you can also shop at the Car Boot Sale.\n⏰ From morning until noon\, we’ll be here to serve you.\nLet’s clean up\, shine bright\, and raise funds together! \n 
URL:https://firstassembly.ky/event/car-boot-sale/
LOCATION:First Assembly Parking Lot\, 195 Old Crewe Rd\, George Town\, Cayman Islands
ATTACH;FMTTYPE=image/jpeg:https://firstassembly.ky/wp-content/uploads/2025/01/carbootsale.jpg
END:VEVENT
END:VCALENDAR